Workbook

Sheet TONG HOP GIA TRI DAU TU
A2: BẢNG TỔNG HỢP GIÁ TRỊ ĐẦU TƯ CƠ SỞ VẬT CHẤT
C3: Nghề : Công nghệ Ô tô
H4: ĐVT: 1.000đ
A5: Năm đầu tư | B5: Sửa chữa phòng học | C5: Đầu tư thiết bị | D5: CỘNG | E5: NGUỒN VỐN
E6: CỘNG | F6: TW (chương trình mục tiêu) | G6: Địa phương (Thành phố) | H6: Nguồn khác (Huy động)
A7: (1) | B7: (2) | C7: (3) | D7: (4)= (2)+(3) | E7: (5)=(6)+(7)+(8) | F7: (6) | G7: (7) | H7: (8)
A8: NĂM 1 | B8: ='DANH MUC DAU TU'!I11 -> 100000 | C8: ='DANH MUC DAU TU'!I14 -> 8214565 | D8: =B8+C8 -> 8314565 | E8: =F8+G8+H8 -> 8214565 | F8: ='DANH MUC DAU TU'!K14 -> 6571652 | G8: ='DANH MUC DAU TU'!L14 -> 1232184.8 | H8: ='DANH MUC DAU TU'!M14 -> 410728.25
A9: NĂM 2 | C9: ='DANH MUC DAU TU'!I60 -> 16755560 | D9: =B9+C9 -> 16755560 | E9: =F9+G9+H9 -> 16755560 | F9: ='DANH MUC DAU TU'!K60 -> 13404448 | G9: ='DANH MUC DAU TU'!L60 -> 2513334 | H9: ='DANH MUC DAU TU'!M60 -> 837778
A10: NĂM 3 | C10: ='DANH MUC DAU TU'!I99 -> 10671210 | D10: =B10+C10 -> 10671210 | E10: =F10+G10+H10 -> 10671210 | F10: ='DANH MUC DAU TU'!K99 -> 8536968 | G10: ='DANH MUC DAU TU'!L100 -> 1600681.5 | H10: ='DANH MUC DAU TU'!M99 -> 533560.5
A11: CỘNG | B11: =SUM(B8:B10) -> 100000 | C11: =SUM(C8:C10) -> 35641335 | D11: =SUM(D8:D10) -> 35741335 | E11: =SUM(E8:E10) -> 35641335 | F11: =SUM(F8:F10) -> 28513068 | G11: =SUM(G8:G10) -> 5346200.2 | H11: =SUM(H8:H10) -> 1782066.8

Sheet DANH MUC DAU TU
A1: UBND THÀNH PHỐ HỒ CHÍ MINH | J1: CỘNG HÒA XÃ HỘI CHỦ NGHĨA VIỆT NAM
A2: TRƯỜNG CAO ĐẲNG LÝ TỰ TRỌNG | J2: Độc lập - Tự do - Hạnh phúc
A3: THÀNH PHỐ HỒ CHÍ MINH
A5: Báo cáo hiện trạng và đề xuất hỗ trợ đầu tư về cơ sở vật chất, máy móc trang thiết bị đào tạo nghề Công nghệ Ô tô thực hiện đào tạo thí điểm theo chương trình chuyển giao từ Đức tại Trường Cao đẳng Lý Tự Trọng TP. Hồ Chí Minh
A6: ( Kèm theo Công văn số 2870/TCGDNN-CTMT ngày 12 tháng 11 năm 2018 của Tổng cục Giáo dục nghề nghiệp)
A8: TT | B8: Nội dung đầu tư | C8: Tình trạng | E8: Số lượng hiện có | F8: Số lượng theo yêu cầu | G8: Số lượng cần bổ sung | H8: Đơn giá ( nghìn đồng) | I8: Thành tiền (nghìn đồng) | J8: Nguồn kinh phí (nghìn đồng) | N8: Ghi chú
J9: Tổng cộng | K9: Trong đó
C10: Đáp ứng | D10: Chưa đáp ứng | K10: NSTW (Từ CTMT GDNN- Việc làm và ATLĐ) | L10: Ngân sách Bộ, ngành, địa phương | M10: Huy động nguồn lực khác
A11: A. | B11: Đầu tư phòng học, xưởng thực hành, thực tập | I11: =I12 -> 100000 | J11: =J12 -> 100000 | K11: 60000 | L11: 30000 | M11: 10000
A12: 1 | B12: Cải tạo phòng học (tiêu chuẩn) - Đào tạo lý thuyết | D12: X | E12: 1 | G12: 1 | H12: 100000 | I12: 100000 | J12: =SUM(K12:M12) -> 100000 | K12: 60000 | L12: 30000 | M12: 10000
A13: B. | B13: Đầu tư máy móc trang thiết bị đào tạo | I13: =I14+I60+I99 -> 35641335 | J13: =SUM(K13:M13) -> 35641335 | K13: 28513068 | L13: 5346200.2 | M13: 1782066.8
A14: I. | B14: Năm thứ nhất | I14: =I15+I17+I34+I47 -> 8214565 | J14: =SUM(K14:M14) -> 8214565 | K14: 6571652 | L14: 1232184.8 | M14: 410728.25
A15: 1 | B15: Phòng học (tiêu chuẩn) - Đào tạo lý thuyết | I15: =SUM(I16:I16) -> 25000 | J15: =SUM(K15:M15) -> 25000 | K15: 20000 | L15: 3750 | M15: 1250
A16: 1.1 | B16: Tủ lớp học sẵn 30 cuốn SGK, cho mỗi cuốn sách giáo khoa theo bộ chương trình (mục 3.1 trong bộ chương trình) là cuốn và Phí bản quyền cho sách chuyên ngành | D16: x | E16: 0 | F16: 1 | G16: 1 | H16: 25000 | I16: =H16*G16 -> 25000
A17: 2 | B17: Trang bị dụng cụ sửa chữa của Xưởng sửa chữa - Đào tạo thực hành. | I17: =SUM(I18:I33) -> 748000 | J17: =SUM(K17:M17) -> 748000 | K17: 598400 | L17: 112200 | M17: 37400
A18: 2.1 | B18: Thước kẹp loại bỏ túi, 150mm | D18: x | E18: 0 | F18: 17 | G18: 17 | H18: 2000 | I18: =G18*H18 -> 34000
A19: 2.2 | B19: Thước đo độ đứng | D19: x | E19: 0 | F19: 17 | G19: 17 | H19: 2800 | I19: =G19*H19 -> 47600
A20: 2.3 | B20: Mũi đánh dấu HM | D20: x | E20: 0 | F20: 17 | G20: 17 | H20: 2800 | I20: =G20*H20 -> 47600
A21: 2.4 | B21: Ê ke góc 135° | D21: x | E21: 0 | F21: 17 | G21: 17 | H21: 2950 | I21: =G21*H21 -> 50150
A22: 2.5 | B22: Bộ búa thợ nguội | D22: x | E22: 0 | F22: 17 | G22: 17 | H22: 1600 | I22: =G22*H22 -> 27200
A23: 2.6 | B23: Kìm kẹp mũi mỏng | D23: x | E23: 0 | F23: 17 | G23: 17 | H23: 550 | I23: =G23*H23 -> 9350
A24: 2.7 | B24: Kìm mũi tròn | D24: x | E24: 0 | F24: 17 | G24: 17 | H24: 550 | I24: =G24*H24 -> 9350
A25: 2.8 | B25: Kìm vạn năng (kìm bơm nước) | D25: x | E25: 0 | F25: 17 | G25: 17 | H25: 2700 | I25: =G25*H25 -> 45900
A26: 2.9 | B26: Kìm kẹp kéo | D26: x | E26: 0 | F26: 17 | G26: 17 | H26: 3600 | I26: =G26*H26 -> 61200
A27: 2.10 | B27: Kìm cắt hình, tay cầm chuyển đổi được | D27: x | E27: 0 | F27: 17 | G27: 17 | H27: 2700 | I27: =G27*H27 -> 45900
A28: 2.11 | B28: Bộ dũa hình chìa khóa | D28: x | E28: 0 | F28: 17 | G28: 17 | H28: 9500 | I28: =G28*H28 -> 161500
A29: 2.12 | B29: Bộ thanh nẹp | D29: x | E29: 0 | F29: 17 | G29: 17 | H29: 8000 | I29: =G29*H29 -> 136000
A30: 2.13 | B30: Đục đánh dấu 120x10mm | D30: x | E30: 0 | F30: 17 | G30: 17 | H30: 400 | I30: =G30*H30 -> 6800
A31: 2.14 | B31: Đục phẳng 200mm | D31: x | E31: 0 | F31: 17 | G31: 17 | H31: 550 | I31: =G31*H31 -> 9350
A32: 2.15 | B32: Đục nhọn chữ thập 200mm | D32: x | E32: 0 | F32: 17 | G32: 17 | H32: 550 | I32: =G32*H32 -> 9350
A33: 2.16 | B33: Kìm cắt, tay cầm chuyển đổi được | D33: x | E33: 0 | F33: 17 | G33: 17 | H33: 2750 | I33: =G33*H33 -> 46750
A34: 3 | B34: Trang bị máy móc của Xưởng sửa chữa - Đào tạo thực hành. | I34: =SUM(I35:I46) -> 944065 | J34: =SUM(K34:M34) -> 944065 | K34: 755252 | L34: 141609.75 | M34: 47203.25
A35: 3.1 | B35: Máy uốn tôn | D35: x | E35: 0 | F35: 2 | G35: 2 | H35: 79400 | I35: =G35*H35 -> 158800
A36: 3.2 | B36: Máy cắt tôn tấm kèm thước cắt song song | D36: x | E36: 0 | F36: 2 | G36: 2 | H36: 325000 | I36: =G36*H36 -> 650000
A37: 3.3 | B37: Bàn cân chỉnh kèm chân đế | D37: x | E37: 0 | F37: 2 | G37: 2 | H37: 7150 | I37: =G37*H37 -> 14300
A38: 3.4 | B38: Máy cưa theo hình. | D38: x | E38: 0 | F38: 2 | G38: 2 | H38: 5850 | I38: =G38*H38 -> 11700
A39: 3.5 | B39: Máy cắt tôn chạy điện | D39: x | E39: 0 | F39: 2 | G39: 2 | H39: 11050 | I39: =G39*H39 -> 22100
A40: 3.6 | B40: Máy cắt dùng khí nén, chạy điện | D40: x | E40: 0 | F40: 2 | G40: 2 | H40: 8840 | I40: =G40*H40 -> 17680
A41: 3.7 | B41: Bộ dụng cụ làm nóng dùng propan gas | D41: x | E41: 0 | F41: 4 | G41: 4 | H41: 4550 | I41: =G41*H41 -> 18200
A42: 3.8 | B42: Dụng cụ kiểm tra mạch hàn | D42: x | E42: 0 | F42: 4 | G42: 4 | H42: 6760 | I42: =G42*H42 -> 27040
...
