Workbook

Sheet TONG HOP GIA TRI DAU TU
A2: BẢNG TỔNG HỢP GIÁ TRỊ ĐẦU TƯ CƠ SỞ VẬT CHẤT
C3: Nghề : Công nghệ Ô tô
H4: ĐVT: 1.000đ
A5: Năm đầu tư | B5: Sửa chữa phòng học | C5: Đầu tư thiết bị | D5: CỘNG | E5: NGUỒN VỐN
E6: CỘNG | F6: TW (chương trình mục tiêu) | G6: Địa phương (Thành phố) | H6: Nguồn khác (Huy động)
A7: (1) | B7: (2) | C7: (3) | D7: (4)= (2)+(3) | E7: (5)=(6)+(7)+(8) | F7: (6) | G7: (7) | H7: (8)
A8: NĂM 1 | B8: ='DANH MUC DAU TU'!I11 -> 100000 | C8: ='DANH MUC DAU TU'!I14 -> 8214565 | D8: =B8+C8 -> 8314565 | E8: =F8+G8+H8 -> 8214565 | F8: ='DANH MUC DAU TU'!K14 -> 6571652 | G8: ='DANH MUC DAU TU'!L14 -> 1232184.8 | H8: ='DANH MUC DAU TU'!M14 -> 410728.25
A9: NĂM 2 | C9: ='DANH MUC DAU TU'!I60 -> 16755560 | D9: =B9+C9 -> 16755560 | E9: =F9+G9+H9 -> 16755560 | F9: ='DANH MUC DAU TU'!K60 -> 13404448 | G9: ='DANH MUC DAU TU'!L60 -> 2513334 | H9: ='DANH MUC DAU TU'!M60 -> 837778
A10: NĂM 3 | C10: ='DANH MUC DAU TU'!I99 -> 10671210 | D10: =B10+C10 -> 10671210 | E10: =F10+G10+H10 -> 10671210 | F10: ='DANH MUC DAU TU'!K99 -> 8536968 | G10: ='DANH MUC DAU TU'!L100 -> 1600681.5 | H10: ='DANH MUC DAU TU'!M99 -> 533560.5
A11: CỘNG | B11: =SUM(B8:B10) -> 100000 | C11: =SUM(C8:C10) -> 35641335 | D11: =SUM(D8:D10) -> 35741335 | E11: =SUM(E8:E10) -> 35641335 | F11: =SUM(F8:F10) -> 28513068 | G11: =SUM(G8:G10) -> 5346200.2 | H11: =SUM(H8:H10) -> 1782066.8

Sheet DANH MUC DAU TU
A1: UBND THÀNH PHỐ HỒ CHÍ MINH | J1: CỘNG HÒA XÃ HỘI CHỦ NGHĨA VIỆT NAM
A2: TRƯỜNG CAO ĐẲNG LÝ TỰ TRỌNG | J2: Độc lập - Tự do - Hạnh phúc
A3: THÀNH PHỐ HỒ CHÍ MINH
A5: Báo cáo hiện trạng và đề xuất hỗ trợ đầu tư về cơ sở vật chất, máy móc trang thiết bị đào tạo nghề Công nghệ Ô tô thực hiện đào tạo thí điểm theo chương trình chuyển giao từ Đức tại Trường Cao đẳng Lý Tự Trọng TP. Hồ Chí Minh
A6: ( Kèm theo Công văn số 2870/TCGDNN-CTMT ngày 12 tháng 11 năm 2018 của Tổng cục Giáo dục nghề nghiệp)
A8: TT | B8: Nội dung đầu tư | C8: Tình trạng | E8: Số lượng hiện có | F8: Số lượng theo yêu cầu | G8: Số lượng cần bổ sung | H8: Đơn giá ( nghìn đồng) | I8: Thành tiền (nghìn đồng) | J8: Nguồn kinh phí (nghìn đồng) | N8: Ghi chú
J9: Tổng cộng | K9: Trong đó
C10: Đáp ứng | D10: Chưa đáp ứng | K10: NSTW (Từ CTMT GDNN- Việc làm và ATLĐ) | L10: Ngân sách Bộ, ngành, địa phương | M10: Huy động nguồn lực khác
A11: A. | B11: Đầu tư phòng học, xưởng thực hành, thực tập | I11: =I12 -> 100000 | J11: =J12 -> 100000 | K11: 60000 | L11: 30000 | M11: 10000
A12: 1 | B12: Cải tạo phòng học (tiêu chuẩn) - Đào tạo lý thuyết | D12: X | E12: 1 | G12: 1 | H12: 100000 | I12: 100000 | J12: =SUM(K12:M12) -> 100000 | K12: 60000 | L12: 30000 | M12: 10000
A13: B. | B13: Đầu tư máy móc trang thiết bị đào tạo | I13: =I14+I60+I99 -> 35641335 | J13: =SUM(K13:M13) -> 35641335 | K13: 28513068 | L13: 5346200.2 | M13: 1782066.8
A14: I. | B14: Năm thứ nhất | I14: =I15+I17+I34+I47 -> 8214565 | J14: =SUM(K14:M14) -> 8214565 | K14: 6571652 | L14: 1232184.8 | M14: 410728.25
A15: 1 | B15: Phòng học (tiêu chuẩn) - Đào tạo lý thuyết | I15: =SUM(I16:I16) -> 25000 | J15: =SUM(K15:M15) -> 25000 | K15: 20000 | L15: 3750 | M15: 1250
A16: 1.1 | B16: Tủ lớp học sẵn 30 cuốn SGK, cho mỗi cuốn sách giáo khoa theo bộ chương trình (mục 3.1 trong bộ chương trình) là cuốn và Phí bản quyền cho sách chuyên ngành | D16: x | E16: 0 | F16: 1 | G16: 1 | H16: 25000 | I16: =H16*G16 -> 25000
A17: 2 | B17: Trang bị dụng cụ sửa chữa của Xưởng sửa chữa - Đào tạo thực hành. | I17: =SUM(I18:I33) -> 748000 | J17: =SUM(K17:M17) -> 748000 | K17: 598400 | L17: 112200 | M17: 37400
A18: 2.1 | B18: Thước kẹp loại bỏ túi, 150mm | D18: x | E18: 0 | F18: 17 | G18: 17 | H18: 2000 | I18: =G18*H18 -> 34000
A19: 2.2 | B19: Thước đo độ đứng | D19: x | E19: 0 | F19: 17 | G19: 17 | H19: 2800 | I19: =G19*H19 -> 47600
A20: 2.3 | B20: Mũi đánh dấu HM | D20: x | E20: 0 | F20: 17 | G20: 17 | H20: 2800 | I20: =G20*H20 -> 47600
A21: 2.4 | B21: Ê ke góc 135° | D21: x | E21: 0 | F21: 17 | G21: 17 | H21: 2950 | I21: =G21*H21 -> 50150
A22: 2.5 | B22: Bộ búa thợ nguội | D22: x | E22: 0 | F22: 17 | G22: 17 | H22: 1600 | I22: =G22*H22 -> 27200
A23: 2.6 | B23: Kìm kẹp mũi mỏng | D23: x | E23: 0 | F23: 17 | G23: 17 | H23: 550 | I23: =G23*H23 -> 9350
A24: 2.7 | B24: Kìm mũi tròn | D24: x | E24: 0 | F24: 17 | G24: 17 | H24: 550 | I24: =G24*H24 -> 9350
A25: 2.8 | B25: Kìm vạn năng (kìm bơm nước) | D25: x | E25: 0 | F25: 17 | G25: 17 | H25: 2700 | I25: =G25*H25 -> 45900
A26: 2.9 | B26: Kìm kẹp kéo | D26: x | E26: 0 | F26: 17 | G26: 17 | H26: 3600 | I26: =G26*H26 -> 61200
A27: 2.10 | B27: Kìm cắt hình, tay cầm chuyển đổi được | D27: x | E27: 0 | F27: 17 | G27: 17 | H27: 2700 | I27: =G27*H27 -> 45900
A28: 2.11 | B28: Bộ dũa hình chìa khóa | D28: x | E28: 0 | F28: 17 | G28: 17 | H28: 9500 | I28: =G28*H28 -> 161500
A29: 2.12 | B29: Bộ thanh nẹp | D29: x | E29: 0 | F29: 17 | G29: 17 | H29: 8000 | I29: =G29*H29 -> 136000
A30: 2.13 | B30: Đục đánh dấu 120x10mm | D30: x | E30: 0 | F30: 17 | G30: 17 | H30: 400 | I30: =G30*H30 -> 6800
A31: 2.14 | B31: Đục phẳng 200mm | D31: x | E31: 0 | F31: 17 | G31: 17 | H31: 550 | I31: =G31*H31 -> 9350
A32: 2.15 | B32: Đục nhọn chữ thập 200mm | D32: x | E32: 0 | F32: 17 | G32: 17 | H32: 550 | I32: =G32*H32 -> 9350
A33: 2.16 | B33: Kìm cắt, tay cầm chuyển đổi được | D33: x | E33: 0 | F33: 17 | G33: 17 | H33: 2750 | I33: =G33*H33 -> 46750
A34: 3 | B34: Trang bị máy móc của Xưởng sửa chữa - Đào tạo thực hành. | I34: =SUM(I35:I46) -> 944065 | J34: =SUM(K34:M34) -> 944065 | K34: 755252 | L34: 141609.75 | M34: 47203.25
A35: 3.1 | B35: Máy uốn tôn | D35: x | E35: 0 | F35: 2 | G35: 2 | H35: 79400 | I35: =G35*H35 -> 158800
A36: 3.2 | B36: Máy cắt tôn tấm kèm thước cắt song song | D36: x | E36: 0 | F36: 2 | G36: 2 | H36: 325000 | I36: =G36*H36 -> 650000
A37: 3.3 | B37: Bàn cân chỉnh kèm chân đế | D37: x | E37: 0 | F37: 2 | G37: 2 | H37: 7150 | I37: =G37*H37 -> 14300
A38: 3.4 | B38: Máy cưa theo hình. | D38: x | E38: 0 | F38: 2 | G38: 2 | H38: 5850 | I38: =G38*H38 -> 11700
A39: 3.5 | B39: Máy cắt tôn chạy điện | D39: x | E39: 0 | F39: 2 | G39: 2 | H39: 11050 | I39: =G39*H39 -> 22100
A40: 3.6 | B40: Máy cắt dùng khí nén, chạy điện | D40: x | E40: 0 | F40: 2 | G40: 2 | H40: 8840 | I40: =G40*H40 -> 17680
A41: 3.7 | B41: Bộ dụng cụ làm nóng dùng propan gas | D41: x | E41: 0 | F41: 4 | G41: 4 | H41: 4550 | I41: =G41*H41 -> 18200
A42: 3.8 | B42: Dụng cụ kiểm tra mạch hàn | D42: x | E42: 0 | F42: 4 | G42: 4 | H42: 6760 | I42: =G42*H42 -> 27040
A43: 3.9 | B43: Kìm đặc biệt | D43: x | E43: 0 | F43: 4 | G43: 4 | H43: 2080 | I43: =G43*H43 -> 8320
A44: 3.10 | B44: Máy mài bằng băng chuyền | D44: x | E44: 0 | F44: 1 | G44: 1 | H44: 7150 | I44: =G44*H44 -> 7150
A45: 3.11 | B45: Máy cưa sắt bằng đai cắt | D45: x | E45: 0 | F45: 1 | G45: 1 | H45: 7540 | I45: =G45*H45 -> 7540
A46: 3.12 | B46: Cưa băng, để cưa thép | D46: x | E46: 0 | F46: 1 | G46: 1 | H46: 1235 | I46: =G46*H46 -> 1235
A47: 4 | B47: Trang bị một Xưởng sửa chữa ô tô - Kỹ thuật điện ô tô và kỹ thuật điện tử ô tô (16 học viên và 1 HLV/ GV) | I47: =SUM(I48:I59) -> 6497500 | J47: =SUM(K47:M47) -> 6497500 | K47: 5198000 | L47: 974625 | M47: 324875
A48: 4.1 | B48: Dàn nâng ô tô | D48: x | E48: 1 | F48: 2 | G48: 1 | H48: 166000 | I48: =G48*H48 -> 166000
A49: 4.2 | B49: Xe mô hình với hệ thống chiếu sáng Xenon cũng như hệ thống chiếu sáng LED | D49: x | E49: 0 | F49: 1 | G49: 1 | H49: 748000 | I49: =G49*H49 -> 748000
A50: 4.3 | B50: Xe mô hình với thiết bị chẩn đoán cho Hệ thống máy phát, Hệ thống khởi động cho tất cả các loại xe, kèm hộp ổ cắm, các lỗi cài đặt trước. | D50: x | E50: 0 | F50: 2 | G50: 2 | H50: 524000 | I50: =G50*H50 -> 1048000
A51: 4.4 | B51: Bảng các loại đèn với Đèn cua xe và điều khiển rơ mooc (tất cả cácbảng đều có bộ dây kết nối, pin và bộ phận tạo điện áp) Lucas | D51: x | E51: 0 | F51: 4 | G51: 4 | H51: 565000 | I51: =G51*H51 -> 2260000
A52: 4.5 | B52: Thiết bị kiểm tra Bosch FSA | D52: x | E52: 0 | F52: 6 | G52: 6 | H52: 175000 | I52: =G52*H52 -> 1050000
A53: 4.6 | B53: Máy đo tần số kỹ thuật số | D53: x | E53: 0 | F53: 8 | G53: 8 | H53: 19500 | I53: =G53*H53 -> 156000
A54: 4.7 | B54: Thiết bị cung cấp điện áp | D54: x | E54: 0 | F54: 8 | G54: 8 | H54: 58000 | I54: =G54*H54 -> 464000
A55: 4.8 | B55: Máy đo đa tác dụng | D55: x | E55: 0 | F55: 17 | G55: 17 | H55: 3500 | I55: =G55*H55 -> 59500
A56: 4.9 | B56: Thiết bị nạp điện | D56: x | E56: 1 | F56: 5 | G56: 4 | H56: 35000 | I56: =G56*H56 -> 140000
A57: 4.10 | B57: Máy kiểm tra acquy. | D57: x | E57: 0 | F57: 2 | G57: 2 | H57: 43000 | I57: =G57*H57 -> 86000
A58: 4.11 | B58: Bộ dụng cụ chuyên dùng (Bảo trì bảo dưỡng acquy) | D58: x | E58: 0 | F58: 2 | G58: 2 | H58: 35000 | I58: =G58*H58 -> 70000
A59: 4.12 | B59: Hệ thống phần mềm xưởng sửa xe | D59: x | E59: 0 | F59: 5 | G59: 5 | H59: 50000 | I59: =G59*H59 -> 250000
A60: II. | B60: Năm thứ hai | I60: =I61+I71+I84 -> 16755560 | J60: =SUM(K60:M60) -> 16755560 | K60: 13404448 | L60: 2513334 | M60: 837778
A61: 1 | B61: Trang bị một Xưởng sửa chữa - Cơ khí ô tô (16 học viên và 1 HLV/ GV | I61: =SUM(I62:I70) -> 3118200 | J61: =SUM(K61:M61) -> 3118200 | K61: 2494560 | L61: 467730 | M61: 155910
A62: 1.1 | B62: Thiết bị "Đường kiểm tra" với bộ phận kiểm tra phanh xe | D62: x | E62: 0 | F62: 1 | G62: 1 | H62: 512000 | I62: =G62*H62 -> 512000
A63: 1.2 | B63: Thiết bị tháo lắp lốp xe | D63: x | E63: 0 | F63: 1 | G63: 1 | H63: 82000 | I63: =G63*H63 -> 82000
A64: 1.3 | B64: Bộ dụng cụ đặc biệt – Kéo rút linh kiện | D64: x | E64: 0 | F64: 2 | G64: 2 | H64: 26600 | I64: =G64*H64 -> 53200
A65: 1.4 | B65: Bộ dụng cụ đặc biệt – Động cơ xe | D65: x | E65: 2 | F65: 5 | G65: 3 | H65: 230000 | I65: =G65*H65 -> 690000
A66: 1.5 | B66: Mẫu động cơ, cho mục đích tháo lắp (G7) | D66: x | E66: 2 | F66: 5 | G66: 3 | H66: 430000 | I66: =G66*H66 -> 1290000
A67: 1.6 | B67: Bộ dụng cụ sửa chữa hệ thống phanh | D67: x | E67: 0 | F67: 2 | G67: 2 | H67: 90000 | I67: =G67*H67 -> 180000
A68: 1.7 | B68: Máy đo đa tác dụng | D68: x | E68: 0 | F68: 8 | G68: 8 | H68: 3500 | I68: =G68*H68 -> 28000
A69: 1.8 | B69: Thiết bị nạp điện | D69: x | E69: 1 | F69: 6 | G69: 5 | H69: 45000 | I69: =G69*H69 -> 225000
A70: 1.9 | B70: Bộ các máy kiểm tra nhỏ khác nhau | D70: x | E70: 0 | F70: 1 | G70: 1 | H70: 58000 | I70: =G70*H70 -> 58000
A71: 2 | B71: Trang bị xưởng sửa xe thực hành - Bộ điều khiển động cơ ô tô (16 học viên và 1 HLV/ Thầy giáo) | I71: =SUM(I72:I83) -> 9171000 | J71: =SUM(K71:M71) -> 9171000 | K71: 7336800 | L71: 1375650 | M71: 458550
A72: 2.1 | B72: Ô tô với ống hút phun xăng | D72: x | E72: 0 | F72: 2 | G72: 2 | H72: 700000 | I72: =H72*G72 -> 1400000
A73: 2.2 | B73: Ô tô với bộ phận kim phun xăng trực tiếp | D73: x | E73: 0 | F73: 2 | G73: 2 | H73: 1400000 | I73: =H73*G73 -> 2800000
A74: 2.3 | B74: Ô tô động cơ phun dầu diesel thông thường | D74: x | E74: 0 | F74: 1 | G74: 1 | H74: 800000 | I74: =H74*G74 -> 800000
A75: 2.4 | B75: Bảng chức năng của hệ thống điều khiển động cơ đốt trong Otto. | D75: x | E75: 0 | F75: 1 | G75: 1 | H75: 810000 | I75: =H75*G75 -> 810000
A76: 2.5 | B76: Mẫu động cơ xăng (G7) | D76: x | E76: 0 | F76: 2 | G76: 2 | H76: 320000 | I76: =H76*G76 -> 640000
A77: 2.6 | B77: Mẫu động cơ diesel (G7) | D77: x | E77: 0 | F77: 2 | G77: 2 | H77: 350000 | I77: =H77*G77 -> 700000
A78: 2.7 | B78: Thiết bị nạp điện | D78: x | E78: 1 | F78: 8 | G78: 7 | H78: 45000 | I78: =H78*G78 -> 315000
A79: 2.8 | B79: Thiết bị kiểm tra hệ thống | D79: x | E79: 0 | F79: 4 | G79: 4 | H79: 43000 | I79: =H79*G79 -> 172000
A80: 2.9 | B80: Thiết bị kiểm tra hệ thống kèm bộ phận kiểm tra khí thải | D80: x | E80: 1 | F80: 4 | G80: 3 | H80: 424000 | I80: =H80*G80 -> 1272000
A81: 2.10 | B81: Máy đo đa tác dụng | D81: x | E81: 0 | F81: 8 | G81: 8 | H81: 3500 | I81: =H81*G81 -> 28000
A82: 2.11 | B82: Hộp kiểm tra | D82: x | E82: 0 | F82: 8 | G82: 8 | H82: 18000 | I82: =H82*G82 -> 144000
A83: 2.12 | B83: Bộ dây adapter chuyển đổi | D83: x | E83: 0 | F83: 2 | G83: 2 | H83: 45000 | I83: =H83*G83 -> 90000
A84: 3 | B84: Trang bị xưởng sửa xe - Hệ thống vận hành xe (16 học viên - 1 HLV/ GV) | I84: =SUM(I85:I98) -> 4466360 | J84: =SUM(K84:M84) -> 4466360 | K84: 3573088 | L84: 669954 | M84: 223318
A85: 3.1 | B85: Dàn đo trục xe | D85: x | E85: 0 | F85: 1 | G85: 1 | H85: 590000 | I85: =G85*H85 -> 590000
A86: 3.2 | B86: Thiết bị đo khác – Các hệ thống phụ trợ | D86: x | E86: 0 | F86: 1 | G86: 1 | H86: 100000 | I86: =G86*H86 -> 100000
A87: 3.3 | B87: Thiết bị tháo lắp lốp xe (G7) | D87: x | E87: 0 | F87: 1 | G87: 1 | H87: 82000 | I87: =G87*H87 -> 82000
A88: 3.4 | B88: Bộ dụng cụ sửa chữa hệ thống phanh | D88: x | E88: 0 | F88: 6 | G88: 6 | H88: 70000 | I88: =G88*H88 -> 420000
A89: 3.5 | B89: Mô hình thiết bị đo hình học trục xe Lucas | D89: x | E89: 0 | F89: 1 | G89: 1 | H89: 1370000 | I89: =G89*H89 -> 1370000
A90: 3.6 | B90: Mô hình hệ thống cân bằng điện tử ESP (Electrisch Stabilität sprogramm) Lucas | D90: x | E90: 0 | F90: 1 | G90: 1 | H90: 690000 | I90: =G90*H90 -> 690000
A91: 3.7 | B91: Mô hình mẫu Phanh đỗ xe điện tử | D91: x | E91: 0 | F91: 1 | G91: 1 | H91: 21000 | I91: =G91*H91 -> 21000
A92: 3.8 | B92: Thiết bị kiểm tra hệ thống | D92: x | E92: 0 | F92: 4 | G92: 4 | H92: 188500 | I92: =G92*H92 -> 754000
A93: 3.9 | B93: Mô hình kiểm tra áp suất lốp xe (RDKS) | D93: x | E93: 0 | F93: 1 | G93: 1 | H93: 2100 | I93: =G93*H93 -> 2100
A94: 3.10 | B94: Dụng cụ chẩn đoán RDKS (Kiểm tra áp suất lốp xe RDKS) | D94: x | E94: 0 | F94: 1 | G94: 1 | H94: 22100 | I94: =G94*H94 -> 22100
A95: 3.11 | B95: Bộ dụng cụ sửa chữa thiết bị RDKS (Kiểm tra áp suất lốp xe BRDKS) | D95: x | E95: 0 | F95: 1 | G95: 1 | H95: 4160 | I95: =G95*H95 -> 4160
A96: 3.12 | B96: Thiết bị nạp điện | D96: x | E96: 0 | F96: 5 | G96: 5 | H96: 45000 | I96: =G96*H96 -> 225000
A97: 3.13 | B97: Bộ dụng cụ chuyên dụng Hệ thống vận hành xe | D97: x | E97: 0 | F97: 2 | G97: 2 | H97: 43000 | I97: =G97*H97 -> 86000
A98: 3.14 | B98: Hệ thống phần mềm xưởng sửa xe | D98: x | E98: 0 | F98: 5 | G98: 5 | H98: 20000 | I98: =G98*H98 -> 100000
A99: III. | B99: Năm thứ ba | I99: =I100 -> 10671210 | J99: =SUM(K99:M99) -> 10671210 | K99: 8536968 | L99: 1600681.5 | M99: 533560.5
A100: 1 | B100: Trang bị cho Xưởng sửa xe - Điện cao áp và hệ thống thông tin (Điều hòa không khí và Túi khí airbag (16 học viên - 1 HLV/GV) | I100: =SUM(I101:I127) -> 10671210 | J100: =SUM(K100:M100) -> 10671210 | K100: 8536968 | L100: 1600681.5 | M100: 533560.5
A101: 1.1 | B101: Xe điện áp cao (1 xe điện, 2 xe lái Hybrid) | D101: x | E101: 0 | F101: 3 | G101: 3 | H101: 1105000 | I101: =G101*H101 -> 3315000
A102: 1.2 | B102: Thiết bị nạp điện (G7) | D102: x | E102: 0 | F102: 5 | G102: 5 | H102: 54600 | I102: =G102*H102 -> 273000
...
